BEGIN:VCALENDAR
VERSION:2.0
PRODID:icalendar-ruby
CALSCALE:GREGORIAN
METHOD:PUBLISH
BEGIN:VEVENT
DTSTAMP:20260420T130218Z
UID:122-107950@clc-scituate.org
DTSTART:20260510T133000Z
DTEND:20260510T150000Z
CLASS:PUBLIC
CREATED:20260331T221115
DESCRIPTION:
LAST-MODIFIED:20260331T221115
LOCATION:
SUMMARY:Easter 6
URL;VALUE=URI:https://www.clc-scituate.org/events/easter-6--122/2026-05-10
END:VEVENT
END:VCALENDAR
