BEGIN:VCALENDAR
VERSION:2.0
PRODID:icalendar-ruby
CALSCALE:GREGORIAN
METHOD:PUBLISH
BEGIN:VEVENT
DTSTAMP:20260420T111355Z
UID:124-107956@clc-scituate.org
DTSTART:20260509T130000Z
DTEND:20260509T160000Z
CLASS:PUBLIC
CREATED:20260415T135020
DESCRIPTION:A Call Process Congregational Workshop will be held at CLC on S
 aturday May 9th from 9am to 12pm with a  luncheon  following. All CLC me
 mbers are strongly encouraged to attend this important step in the overall
  process of Calling a new Pastor.
LAST-MODIFIED:20260415T135020
LOCATION:
SUMMARY:Call Process Congregational Workshop
URL;VALUE=URI:https://www.clc-scituate.org/events/call-process-congregation
 al-workshop/2026-05-09
END:VEVENT
END:VCALENDAR
